Workbook

Sheet ส่วนที่ 3
A1: ส่วนที่ 3
A2: การนำแผนพัฒนาท้องถิ่นไปสู่การปฏิบัติ
A3: ๑. ยุทธศาสตร์การพัฒนาและแผนงาน
A4: ที่ | B4: ยุทธศาสตร์ | C4: ด้าน | D4: แผนงาน | E4: หน่วยงานรับผิดชอบหลัก | F4: หน่วยงานสนับสนุน
A5: 1 | B5: การพัฒนาด้านโครงสร้างพื้นฐาน | C5: การเศรษฐกิจ | D5: แผนงานอุตสาหกรรมและการโยธา | E5: กองช่าง | F5: อบต.ในควน
C6: บริการชุมชนและสังคม | D6: แผนงานเคหะและชุมชน | E6: กองช่าง
A7: 2 | B7: การพัฒนาด้านคุณภาพชีวิต | C7: บริการชุมชนและสังคม | D7: แผนงานสังคมสงเคราะห์ | E7: สำนักปลัด
D8: แผนงานการศึกษา | E8: กองการศึกษา
D9: แผนงานศาสนาวัฒนธรรม | E9: กองการศึกษา
D10: แผนงานสร้างความเข้มแข็งของชุมชน | E10: สำนักปลัด
D11: แผนงานสาธารณสุข | E11: สำนักปลัด
C12: การเศรษฐกิจ | D12: แผนงานอุตสาหกรรมและการโยธา | E12: กองช่าง สำนักปลัด
A13: 3 | B13: การจัดระเบียบชุมชนและการรักษาความสงบเรียบร้อย | C13: บริหารงานทั่วไป | D13: แผนงานการรักษาความสงบภายใน | E13: สำนักปลัด
A15: 4 | B15: ด้านการวางแผน การส่งเสริมการลงทุน พาณิชยกรรมและการท่องเที่ยว | C15: การเศรษฐกิจ | D15: แผนงานการพาณิชย์ | E15: สำนักปลัด
A17: 5 | B17: ด้านการบริหารจัดการและการอนุรักษ์ทรัพยากรธรรมชาติและสิ่งแวดล้อม | C17: การเศรษฐกิจ | D17: แผนงานการเกษตร | E17: สำนักปลัด /กองช่าง
C19: บริการชุมชนและสังคม | D19: แผนงานเคหะและชุมชน
A20: 6 | B20: ด้านศิลปะ วัฒนธรรมจารีตประเพณีและภูมิปัญญาท้องถิ่น | C20: บริการชุมชนและสังคม | D20: แผนงานศาสนาวัฒนธรรมและนันทนาการ | E20: กองการศึกษา
A22: 7 | B22: การพัฒนาด้านการบิรหารจัดการ | C22: บริหารงานทั่วไป | D22: แผนงานบริหารงานทั่วไป | E22: สำนักปลัด
D23: แผนงานอุตสาหกรรมและการโยธา | E23: กองช่าง
A24: รวม | B24: 7 ยุทธศาสตร์ | C24: 4 ด้าน | D24: 11 แผนงาน | E24: 4 สำนัก/กอง

Sheet ผ 01 
A1: บัญชีสรุปโครงการพัฒนา
A2: แผนพัฒนาท้องถิ่น (พ.ศ. 2566-2570) เพิ่มเติม ครั้งที่ 3/2566
A3: องค์การบริหารส่วนตำบลในควน
A5: ยุทธศาสตร์ | B5: ปี 2566 | D5: ปี 2567 | F5: ปี 2568 | H5: ปี 2569 | J5: ปี 2570 | L5: รวม 5 ปี
B6: จำนวน | C6: งบประมาณ | D6: จำนวน | E6: งบประมาณ | F6: จำนวน | G6: งบประมาณ | H6: จำนวน | I6: งบประมาณ | J6: จำนวน | K6: งบประมาณ | L6: จำนวน | M6: งบประมาณ
B7: โครงการ | D7: โครงการ | F7: โครงการ | H7: โครงการ | J7: โครงการ | L7: โครงการ
A8: ยุทธศาสตร์ที่ 1 การพัฒนาด้านโครงสร้างพื้นฐาน
A9: กลยุทธ์ที่ 1 การพัฒนาระบบคมนาคมการ พัฒนาระบบไฟฟ้าสาธารณะ และการพัฒนาระบบประปา
A10: แผนงานอุตสาหกรรมและการโยธา | B10: =+'ยท1)'!E24 -> 0 | C10: =+'ยท1)'!E23 -> 0 | D10: =+'ยท1)'!F24 -> 8 | E10: =+'ยท1)'!F23 -> 3836000 | F10: ='ยท1)'!G24 -> 0 | G10: =+'ยท1)'!G23 -> 0 | H10: =+'ยท1)'!H24 -> 0 | I10: =+'ยท1)'!H23 -> 0 | J10: =+'ยท1)'!I24 -> 0 | K10: =+'ยท1)'!I23 -> 0 | L10: =B10+D10+F10+H10+J10 -> 8 | M10: =C10+E10+G10+I10+K10 -> 3836000
A11: รวม | B11: =SUM(B10:B10) -> 0 | C11: =SUM(C10:C10) -> 0 | D11: =SUM(D10:D10) -> 8 | E11: =SUM(E10:E10) -> 3836000 | F11: =SUM(F10:F10) -> 0 | G11: =SUM(G10:G10) -> 0 | H11: =SUM(H10:H10) -> 0 | I11: =SUM(I10:I10) -> 0 | ... M11: =SUM(M10:M10) -> 3836000
A12: รวมทั้งสิ้น | B12: =SUM(B11) -> 0 | C12: =SUM(C11) -> 0 | D12: =SUM(D11) -> 8 | E12: =SUM(E11) -> 3836000 | F12: =SUM(F11) -> 0 | G12: =SUM(G11) -> 0 | H12: =SUM(H11) -> 0 | I12: =SUM(I11) -> 0 | ... M12: =SUM(M11) -> 3836000

Sheet ผ 01. 2
A2: บัญชีสรุปโครงการพัฒนา
A3: แผนพัฒนาท้องถิ่น (พ.ศ. 2566-2570) เพิ่มเติม ครั้งที่ 3/2566
A4: โครงการที่เกินศักยภาพขององค์กรปกครองส่วนท้องถิ่นที่ใช้สำหรับการประสานแผนพัฒนาท้องถิ่น
A5: องค์การบริหารส่วนตำบลในควน
A7: ยุทธศาสตร์ | B7: ปี 2566 | D7: ปี 2567 | F7: ปี 2568 | H7: ปี 2569 | J7: ปี 2570 | L7: รวม 5 ปี
B8: จำนวน | C8: งบประมาณ | D8: จำนวน | E8: งบประมาณ | F8: จำนวน | G8: งบประมาณ | H8: จำนวน | I8: งบประมาณ | J8: จำนวน | K8: งบประมาณ | L8: จำนวน | M8: งบประมาณ
B9: โครงการ | D9: โครงการ | F9: โครงการ | H9: โครงการ | J9: โครงการ | L9: โครงการ
A10: ยุทธศาสตร์ที่ 1 การพัฒนาด้านโครงสร้างพื้นฐาน
A11: กลยุทธ์ที่ 1 การพัฒนาระบบคมนาคมการ พัฒนาระบบไฟฟ้าสาธารณะ และการพัฒนาระบบประปา
A12: 1.1 แผนงานอุตสาหกรรมและการโยธา | B12: =+'ยท1)'!E24 -> 0 | C12: =+'ยท1)'!E23 -> 0 | D12: 0 | E12: 0 | F12: ='ยท1.2)'!G21 -> 4 | G12: ='ยท1.2)'!G20 -> 31500000 | H12: =+'ยท1)'!H24 -> 0 | I12: =+'ยท1)'!H23 -> 0 | J12: =+'ยท1)'!I24 -> 0 | K12: =+'ยท1)'!I23 -> 0 | L12: =B12+D12+F12+H12+J12 -> 4 | M12: =C12+E12+G12+I12+K12 -> 31500000
A14: รวม | B14: =SUM(B12:B13) -> 0 | C14: =SUM(C12:C13) -> 0 | D14: =SUM(D12:D13) -> 0 | E14: =SUM(E12:E13) -> 0 | F14: =SUM(F12:F13) -> 4 | G14: =SUM(G12:G13) -> 31500000 | H14: =SUM(H12:H13) -> 0 | I14: =SUM(I12:I13) -> 0 | ... M14: =SUM(M12:M13) -> 31500000

Sheet ผ02.2ยท1
A1: รายละเอียดโครงการพัฒนา
A2: แผนพัฒนาท้องถิ่น (พ.ศ. 2566-2570) เพิ่มเติม ครั้งที่ 3/2566
A3: โครงการที่เกินศักยภาพขององค์กรปกครองส่วนท้องถิ่นที่ใช้สำหรับการประสานแผนพัฒนาท้องถิ่น
A4: องค์การบริหารส่วนตำบลในควน
B5: ก.ยุทธศาสร์ชาติ 20 ปี ยุทธศาสตร์ที่ 2 การเพิ่มความสามารถในการแข่งขัน
B6: ข.แผนพัฒนาเศรษฐกิจและสังคมแห่งชาติ ฉบับที่ 13 หมุดหมายที่ 5 ไทยเป็นประตูการค้าการลงทุนและยุทธศาสตร์ทางโลก จิสติกส์ที่สำคัญของภูมิภาค
B7: ค. Sustainable Development Goals : SDGs เป้าหมายที่ 9 สร้างโครงสร้างพื้นฐานที่มีความทนทาน ส่งเสริมการพัฒนาอุตสาหกรรมที่ครอบคลุมและยั่งยืน และส่งเสริมนวัตกรรม
B8: ง. ยุทธศาสตร์จังหวัดตรัง ยุทธศาสตร์ที่ 1 การพัฒนาด้านโครงสร้างพื้นฐานควบคู่การท่องเที่ยวเชิงอนุรักษ์
B9: จ. ยุทธศาสตร์การพัฒนาของ อปท. ในเขตจังหวัดตรัง ยุทธศาสตร์ที่ 1 การพัฒนาด้านโครงสร้างพื้นฐานควบคู่การท่องเที่ยวเชิงอนุรักษ์ | K9: แบบ ผ.02/2
B10: ยุทธศาสตร์ที่ 1 การพัฒนาด้านโครงสร้างพื้นฐาน | K10: .
A11: 5.2 แผนงานอุตสาหกรรมและการโยธา | B11: 1.1 กลยุทธ์ที่ 1 การพัฒนาระบบคมนาคม การพัฒนาระบบไฟฟ้าสาธารณะ และการพัฒนาระบบประปา
B12: (1) แผนงานอุตสาหกรรมและการโยธา
A13: ที่ | B13: โครงการ | C13: วัตถุประสงค์ | D13: เป้าหมาย(ผลผลิตของโครงการ) | E13: งบประมาณและที่มา | J13: ตัวชี้วัด(KPI) | K13: ผลลัพธ์ที่คาดว่าจะได้รับ | L13: หน่วยงานรับผิดชอบ
E14: 2566 | F14: 2567 | G14: 2568 | H14: 2569 | I14: 2570
E15: (บาท) | F15: (บาท) | G15: (บาท) | H15: (บาท) | I15: (บาท)
A16: 1 | B16: โครงการปรับปรุงผิวจราจรแอสฟัลท์ติกคอนกรีตถนนสายซอยน้ำทิพย์ หมู่ที่ 3 | C16: - เพื่อให้ประชาชนได้มีถนนใช้ในการคมนาคมได้สะดวกรวดเร็ว - เพื่อความปลอดภัยในการใช้รถใช้ถนนในการเดินทาง | D16: - ปรับปรุงผิวจราจรแอสฟัลท์ติกคอนกรีต ขนาดกว้าง 4 - 5 เมตร ระยะทาง 630 เมตร หรือมีพื้นที่ไม่น้อยกว่า 2,800 ตร.ม. ฯลฯ | E16: - | F16: 3150000 | G16: - | H16: - | I16: - | J16: ถนนมีมาตรฐานความปลอดภัยและประชาชนได้รับความสะดวกรวดเร็วในการเดินทาง ร้อยละ 70 ขึ้นไป | K16: - ทำให้ประชาชนมีถนนใช้ที่ได้มาตรฐานและการเดินทางสะดวกรวดเร็วปลอดภัยยิ่งขึ้น | L16: กองช่าง (เงินอุดหนุนเฉพาะกิจ)
A17: 2 | B17: โครงการปรับปรุงผิวจราจรแอสฟัลท์ติกคอนกรีตถนนสายหนองยายมาก หมู่ที่ 8 | C17: - เพื่อให้ประชาชนได้มีถนนใช้ในการคมนาคมได้สะดวกรวดเร็ว - เพื่อความปลอดภัยในการใช้รถใช้ถนนในการเดินทาง | D17: - ปรับปรุงผิวจราจรแอสฟัลท์ติกคอนกรีต ขนาดกว้าง 4 เมตร ระยะทาง 700 เมตร หรือมีพื้นที่ไม่น้อยกว่า 2,800 ตร.ม. ฯลฯ | E17: - | F17: 3500000 | G17: - | H17: - | I17: - | J17: ถนนมีมาตรฐานความปลอดภัยและประชาชนได้รับความสะดวกรวดเร็วในการเดินทาง ร้อยละ 70 ขึ้นไป | K17: - ทำให้ประชาชนมีถนนใช้ที่ได้มาตรฐานและการเดินทางสะดวกรวดเร็วปลอดภัยยิ่งขึ้น | L17: กองช่าง (เงินอุดหนุนเฉพาะกิจ)
A18: 3 | B18: โครงการปรับปรุงผิวจราจรแอสฟัลท์ติกคอนกรีตถนนสายนาหยีค้อม - ต้นปริง หมู่ที่ 10 | C18: - เพื่อให้ประชาชนได้มีถนนใช้ในการคมนาคมได้สะดวกรวดเร็ว - เพื่อความปลอดภัยในการใช้รถใช้ถนนในการเดินทาง | D18: - ปรับปรุงผิวจราจรแอสฟัลท์ติกคอนกรีต ขนาดกว้าง 5 เมตร ระยะทาง 550 เมตร หรือมีพื้นที่ไม่น้อยกว่า 2,750 ตร.ม. ฯลฯ | E18: - | F18: 2750000 | G18: - | H18: - | I18: - | J18: ถนนมีมาตรฐานความปลอดภัยและประชาชนได้รับความสะดวกรวดเร็วในการเดินทาง ร้อยละ 70 ขึ้นไป | K18: - ทำให้ประชาชนมีถนนใช้ที่ได้มาตรฐานและการเดินทางสะดวกรวดเร็วปลอดภัยยิ่งขึ้น | L18: กองช่าง (เงินอุดหนุนเฉพาะกิจ)
B19: รวมงบประมาณ | E19: =SUM(#REF!) -> #REF! | F19: =SUM(F16:F18) -> 9400000 | G19: =SUM(G16:G18) -> 0 | H19: =SUM(#REF!) -> #REF! | I19: =SUM(#REF!) -> #REF!
C20: รวมโครงการ | E20: =COUNT(#REF!) -> 0 | F20: =COUNT(F16:F18) -> 3 | G20: =COUNT(G16:G18) -> 0 | H20: =COUNT(#REF!) -> 0 | I20: =COUNT(#REF!) -> 0

Sheet ผ02.2ยท 5
A1: รายละเอียดโครงการพัฒนา
A2: แผนพัฒนาท้องถิ่น (พ.ศ. 2566-2570) เพิ่มเติม ครั้งที่ 2/2566
A3: โครงการที่เกินศักยภาพขององค์กรปกครองส่วนท้องถิ่นที่ใช้สำหรับการประสานแผนพัฒนาท้องถิ่น
A4: องค์การบริหารส่วนตำบลในควน
B5: ก.ยุทธศาสร์ชาติ 20 ปี ยุทธศาสตร์ที่ 5 ด้านการสร้างการเติบโตบนคุณภาพชีวิตที่เป็นมิตรต่อสิ่งแวดล้อม
B6: ข.แผนพัฒนาเศรษฐกิจและสังคมแห่งชาติ ฉบับที่ 13 หมุดหมายที่ 10 ไทยมีเศรษฐกิจหมุนเวียนและสังคมคาร์บอนต่ำ จิสติกส์ที่สำคัญของภูมิภาค
B7: ค. Sustainable Development Goals : SDGs เป้าหมายที่ 9 ปกป้อง ฟื้นฟู และสนับสนุนการใช้ระบบนิเวศบนบกอย่างยั่งยืน จัดการป่าไม้อย่างยั่งยืนต่อสู้การกลายสภาพเป็นทะเลทราย หยุดการเสื่อมโทรมของที่ดินและฟื้นสภาพดิน และหยุดยั้งการสูญเสียความหลากหลายทางชีวภาพ
B8: ง. ยุทธศาสตร์จังหวัดที่ 4 การบริหารจัดการทรัพยากรธรรมชาติและสิ่งแวดล้อมอย่างเหมาะสมกับชุมชน/พื้นที่และมีความยั่งยืน
B9: จ. ยุทธศาสตร์การพัฒนา อปท.ในเขตจังหวัดตรัง ยุทธศาสตร์ ที่ 4 ยุทธศาสตร์การพัฒนาด้านการอนุรักษ์พลังงานและจัดการทรัพยากรธรรมชาติและสิ่งแวดล้อมอย่างยั่งยืน
B10: ยุทธศาสตร์ที่ 5 การพัฒนาด้านการบริหารจัดการและการอนุรักษ์ทรัพยากรธรรมชาติสิ่งแวดล้อม | K10: ผ 02/2
A11: 5.2 แผนงานอุตสาหกรรมและการโยธา | B11: กลยุทธ์ที่ 5.2 การอนุรักษ์ทรัพยากรธรรมชาติและสิ่งแวดล้อม
B12: (3) แผนงานอุตสาหกรรมและการโยธา
A13: ที่ | B13: โครงการ | C13: วัตถุประสงค์ | D13: เป้าหมาย(ผลผลิตของโครงการ) | E13: งบประมาณและที่มา | J13: ตัวชี้วัด(KPI) | K13: ผลลัพธ์ที่คาดว่าจะได้รับ | L13: หน่วยงานรับผิดชอบ
E14: 2566 | F14: 2567 | G14: 2568 | H14: 2569 | I14: 2570
E15: (บาท) | F15: (บาท) | G15: (บาท) | H15: (บาท) | I15: (บาท)
A16: 1 | B16: โครงการก่อสร้างผนังกั้นตลิ่งพังคลองปะเหลียน ชุมชนร้านใต้ – บ้านห้วยด้วน หมู่ที่ 2 | C16: - เพื่อป้องกันการพังทลายของดินที่เกิดจากการกัดเซาะของกระแสน้ำ - เพื่อการอนุรักษ์ ฟื้นฟู และบริหารจัดการ ทรัพยากรธรรมชาติและสิ่งแวดล้อมอย่างเป็นระบบและยั่งยืน | D16: - ก่อสร้างผนังกั้นตลิ่งพัง คลองปะเหลียน ชุมชนร้านใต้ – บ้านห้วยด้วน ระยะทาง 1,200 เมตร | E16: - | F16: - | G16: 10000000 | H16: - | I16: - | J16: ก่อสร้างผนังกั้นตลิ่งพัง | K16: - สามารถป้องกันการพังทลายของดินที่เกิดจากการกัดเซาะของกระแสน้ำ | L16: กองช่าง (เงินอุดหนุนเฉพาะกิจ)
B19: รวมงบประมาณ | E19: =SUM(#REF!) -> #REF! | F19: =SUM(#REF!) -> #REF! | G19: =SUM(G16:G16) -> 10000000 | H19: =SUM(#REF!) -> #REF! | I19: =SUM(#REF!) -> #REF!
C20: รวมโครงการ | E20: =COUNT(#REF!) -> 0 | F20: =COUNT(F16:F16) -> 0 | G20: =COUNT(G16:G16) -> 1 | H20: =COUNT(#REF!) -> 0 | I20: =COUNT(#REF!) -> 0

Sheet ยท1)
A1: รายละเอียดโครงการพัฒนา
A2: แผนพัฒนาท้องถิ่น (พ.ศ. 2566-2570) เพิ่มเติม ครั้งที่ 3/2566
A3: องค์การบริหารส่วนตำบลในควน
B4: ก.ยุทธศาสร์ชาติ 20 ปี ยุทธศาสตร์ที่ 2 การเพิ่มความสามารถในการแข่งขัน
B5: ข.แผนพัฒนาเศรษฐกิจและสังคมแห่งชาติ ฉบับที่ 13 หมุดหมายที่ 5 ไทยเป็นประตูการค้าการลงทุนและยุทธศาสตร์ทางโลจิสติกส์ที่สำคัญของภูมิภาค
B6: ค. Sustainable Development Goals : SDGs เป้าหมายที่ 9 สร้างโครงสร้างพื้นฐานที่มีความทนทาน ส่งเสริมการพัฒนาอุตสาหกรรมที่ครอบคลุมและยั่งยืน และส่งเสริมนวัตกรรม
B7: ง. ยุทธศาสตร์จังหวัดตรัง ยุทธศาสตร์ที่ 1 การพัฒนาด้านโครงสร้างพื้นฐานควบคู่การท่องเที่ยวเชิงอนุรักษ์
B8: จ. ยุทธศาสตร์การพัฒนาของ อปท. ในเขตจังหวัดตรัง ยุทธศาสตร์ที่ 1 การพัฒนาด้านโครงสร้างพื้นฐานควบคู่การท่องเที่ยวเชิงอนุรักษ์ | K8: แบบ ผ.02
B9: ยุทธศาสตร์ที่ 1 การพัฒนาด้านโครงสร้างพื้นฐาน | K9: .
B10: 1.1 กลยุทธ์ที่ 1 การพัฒนาระบบคมนาคม การพัฒนาระบบไฟฟ้าสาธารณะ และการพัฒนาระบบประปา
B11: (1) แผนงานอุตสาหกรรมและการโยธา
A12: ที่ | B12: โครงการ | C12: วัตถุประสงค์ | D12: เป้าหมาย(ผลผลิตของโครงการ) | E12: งบประมาณและที่มา | J12: ตัวชี้วัด(KPI) | K12: ผลลัพธ์ที่คาดว่าจะได้รับ | L12: หน่วยงานรับผิดชอบ
E13: 2566 | F13: 2567 | G13: 2568 | H13: 2569 | I13: 2570
E14: (บาท) | F14: (บาท) | G14: (บาท) | H14: (บาท) | I14: (บาท)
A15: 1 | B15: โครงการก่อสร้างถนนคอนกรีตเสริมเหล็กสายนาหยีค้อม - ในควน หมู่ที่ 10 - 7 | C15: - เพื่อให้ประชาชนได้มีถนนใช้ในการคมนาคมได้สะดวกรวดเร็ว - เพื่อความปลอดภัยในการใช้รถใช้ถนนในการเดินทาง | D15: - ก่อสร้างถนนคอนกรีตเสริมเหล็ก ขนาดกว้าง 4 เมตร ระยะทาง 190 เมตร หนา 0.15 เมตร หรือมีพื้นที่ไม่น้อยกว่า 760 ตร.ม. ฯลฯ | E15: - | F15: 499000 | G15: - | H15: - | I15: - | J15: ถนนมีมาตรฐานความปลอดภัยและประชาชนได้รับความสะดวกรวดเร็วในการเดินทาง ร้อยละ 70 ขึ้นไป | K15: - ทำให้ประชาชนมีถนนใช้ที่ได้มาตรฐานและการเดินทางสะดวกรวดเร็วปลอดภัยยิ่งขึ้น | L15: กองช่าง
A16: 2 | B16: โครงการซ่อมแซมปรับปรุงถนนสายส้มเฟือง - ในสวน หมู่ที่ 4 | C16: - เพื่อให้ประชาชนได้มีถนนใช้ในการคมนาคมได้สะดวกรวดเร็ว - เพื่อความปลอดภัยในการใช้รถใช้ถนนในการเดินทาง | D16: - ซ่อมแซมปรับปรุงถนนลูกรังหรือหินผุ ขนาดกว้าง 5 เมตร ระยะทาง 1,000 เมตร หนา 0.20 เมตร หรือมีพื้นที่ไม่น้อยกว่า 5,000 ตร.ม. ฯลฯ | E16: - | F16: 486000 | G16: - | H16: - | I16: - | J16: ถนนมีมาตรฐานความปลอดภัยและประชาชนได้รับความสะดวกรวดเร็วในการเดินทาง ร้อยละ 70 ขึ้นไป | K16: - ทำให้ประชาชนมีถนนใช้ที่ได้มาตรฐานและการเดินทางสะดวกรวดเร็วปลอดภัยยิ่งขึ้น | L16: กองช่าง
A17: 3 | B17: โครงการซ่อมแซมปรับปรุงถนนสาย โคกมะขาม - ปากคลอง หมู่ที่ 6 | C17: - เพื่อให้ประชาชนได้มีถนนใช้ในการคมนาคมได้สะดวกรวดเร็ว - เพื่อความปลอดภัยในการใช้รถใช้ถนนในการเดินทาง | D17: - ซ่อมแซมปรับปรุงถนนแคปซีลเป็นคอนกรีตเสริมเหล็ก ขนาดกว้าง 5 เมตร ระยะทาง 120 เมตร หนา 0.15 เมตร หรือมีพื้นที่ไม่น้อยกว่า 600 ตร.ม.ฯลฯ | E17: - | F17: 365000 | G17: - | H17: - | I17: - | J17: ถนนมีมาตรฐานความปลอดภัยและประชาชนได้รับความสะดวกรวดเร็วในการเดินทาง ร้อยละ 70 ขึ้นไป | K17: - ทำให้ประชาชนมีถนนใช้ที่ได้มาตรฐานและการเดินทางสะดวกรวดเร็วปลอดภัยยิ่งขึ้น | L17: กองช่าง
A18: 4 | B18: โครงการติดตั้งไฟฟ้าสาธารณะกิ่งเดี่ยว เสาไฟฟ้าสูง 9 เมตร หมู่ที่ 1 (ถนนสายบ้านหนังก้อง) | C18: - เพื่อให้ประชาชนมีไฟฟ้าส่องสว่างอย่างทั่วถึงและมีความปลอดภัยในชีวิตและทรัพย์สินเพิ่มมากขึ้น | D18: - ติดตั้งไฟฟ้าสาธารณะกิ่งเดี่ยว เสาไฟสูง 9 เมตร จำนวน 9 ต้น ฯลฯ | E18: - | F18: 497000 | G18: - | H18: - | I18: - | J18: ถนนในเขตอบต. ในควนมีไฟฟ้า ส่องสว่างเพิ่มขึ้น ร้อยละ 80 | K18: - ประชาชนได้มีไฟฟ้าส่องสว่างอย่างทั่วถึง | L18: กองช่าง
A19: 5 | B19: โครงการติดตั้งไฟฟ้าสาธารณะกิ่งเดี่ยว เสาไฟฟ้าสูง 9 เมตร หมู่ที่ 7 ( ถนนสาย หนองแห้ง - ในควน ) | C19: - เพื่อให้ประชาชนมีไฟฟ้าส่องสว่างอย่างทั่วถึงและมีความปลอดภัยในชีวิตและทรัพย์สินเพิ่มมากขึ้น | D19: - ติดตั้งไฟฟ้าสาธารณะกิ่งเดี่ยว เสาไฟสูง 9 เมตร จำนวน 9 ต้น ฯลฯ | E19: - | F19: 497000 | G19: - | H19: - | I19: - | J19: ถนนในเขตอบต. ในควนมีไฟฟ้า ส่องสว่างเพิ่มขึ้น ร้อยละ 80 | K19: - ประชาชนได้มีไฟฟ้าส่องสว่างอย่างทั่วถึง | L19: กองช่าง
A20: 6 | B20: โครงการติดตั้งไฟฟ้าสาธารณะกิ่งเดี่ยว เสาไฟฟ้าสูง 9 เมตร หมู่ที่ 9 - 10 ( ถนนสาย โพรงจระเข้ - หนองขอน ) | C20: - เพื่อให้ประชาชนมีไฟฟ้าส่องสว่างอย่างทั่วถึงและมีความปลอดภัยในชีวิตและทรัพย์สินเพิ่มมากขึ้น | D20: - ติดตั้งไฟฟ้าสาธารณะกิ่งเดี่ยว เสาไฟสูง 9 เมตร จำนวน 9 ต้น ฯลฯ | E20: - | F20: 497000 | G20: - | H20: - | I20: - | J20: ถนนในเขตอบต. ในควนมีไฟฟ้า ส่องสว่างเพิ่มขึ้น ร้อยละ 80 | K20: - ประชาชนได้มีไฟฟ้าส่องสว่างอย่างทั่วถึง | L20: กองช่าง
A21: 7 | B21: โครงการขุดลอกห้วย สายหนองยนต์ - ห้วยลึก หมู่ที่ 1 - 2 | C21: - เพื่อช่วยในการระบายน้ำและแก้ไขปัญหาน้ำท่วมขัง | D21: - ขุดลอกห้วยระยะทาง 1,000 เมตร ฯลฯ | E21: - | F21: 496000 | G21: - | H21: - | I21: - | J21: ลดปัญหาน้ำท่วมขังบริเวณ อบต.ในควนและบริเวณใกล้เคียง | K21: - สามารถเพิ่มประสิทธิภาพในการระบายน้ำ แก้ไขปัญหาน้ำท่วมขังบริเวณอบต.ในควน ศพด.และหลังร.ร.ทุ่งหนองแห้ง เขตบริเวณชุมชนใกล้เคียง | L21: กองช่าง
A22: 8 | B22: โครงการขุดสระน้ำเพื่อเพิ่มประสิทธิภาพระบบประปาหมู่บ้าน หมู่ที่ 10 | C22: - เพื่อใช้กักเก็บน้ำในการอุปโภคบริโภคและเพื่อการเกษตร - เพื่อเพิ่มประสิทธิภาพระบบประปาหมู่บ้านให้มีปริมาณน้ำที่เพียงพอ | D22: - ขุดสระน้ำสาธารณะ ขนาดกว้าง 10 เมตร ยาว 40 เมตร ลึก 5เมตร - พร้อมเครื่องสูบน้ำแบบหอยโข่ง ขนาด 3 แรงม้า วางท่อเมนสูบน้ำขนาด 3 นิ้ว ยาว 380 เมตร ฯลฯ | E22: - | F22: 499000 | G22: - | H22: - | I22: - | J22: จำนวนครัวเรือนมีน้ำใช้แบบมีประสิทธิภาพเพิ่มขึ้น | K22: - เพื่อกักเก็บน้ำสำหรับใช้ประโยชน์ในครัวเรือนเพื่อการอุปโภคบริโภคและการเกษตร | L22: กองช่าง
A23: รวมงบประมาณ | E23: =SUM(E15:E22) -> 0 | F23: =SUM(F15:F22) -> 3836000 | G23: =SUM(G15:G22) -> 0 | H23: =SUM(H15:H22) -> 0 | I23: =SUM(I15:I22) -> 0
A24: รวมโครงการ | E24: =COUNT(#REF!) -> 0 | F24: =COUNT(F15:F22) -> 8 | G24: =COUNT(G15:G22) -> 0 | H24: =COUNT(#REF!) -> 0 | I24: =COUNT(#REF!) -> 0

Sheet ยท1.2)
A1: รายละเอียดโครงการพัฒนา
A2: โครงการที่เกินศักยภาพขององค์กรปกครองส่วนท้องถิ่นที่ใช้สำหรับการประสานแผนพัฒนาท้องถิ่น
A3: แผนพัฒนาท้องถิ่น (พ.ศ. 2566-2570) เพิ่มเติม ครั้งที่ 3/2566
A4: องค์การบริหารส่วนตำบลในควน
B5: ก.ยุทธศาสร์ชาติ 20 ปี ยุทธศาสตร์ที่ 2 การเพิ่มความสามารถในการแข่งขัน
B6: ข.แผนพัฒนาเศรษฐกิจและสังคมแห่งชาติ ฉบับที่ 13 หมุดหมายที่ 5 ไทยเป็นประตูการค้าการลงทุนและยุทธศาสตร์ทางโลจิสติกส์ที่สำคัญของภูมิภาค
B7: ค. Sustainable Development Goals : SDGs เป้าหมายที่ 9 สร้างโครงสร้างพื้นฐานที่มีความทนทาน ส่งเสริมการพัฒนาอุตสาหกรรมที่ครอบคลุมและยั่งยืนและส่งเสริมนวัตกรรม
B8: ง. ยุทธศาสตร์จังหวัดตรัง ยุทธศาสตร์ที่ 1 การพัฒนาด้านโครงสร้างพื้นฐานควบคู่การท่องเที่ยวเชิงอนุรักษ์
B9: จ. ยุทธศาสตร์การพัฒนาของ อปท. ในเขตจังหวัดตรัง ยุทธศาสตร์ที่ 1 การพัฒนาด้านโครงสร้างพื้นฐานควบคู่การท่องเที่ยวเชิงอนุรักษ์ | K9: แบบ ผ.02/2
B10: ยุทธศาสตร์ที่ 1 การพัฒนาด้านโครงสร้างพื้นฐาน | K10: .
B11: 1.1 กลยุทธ์ที่ 1 การพัฒนาระบบคมนาคม การพัฒนาระบบไฟฟ้าสาธารณะ และการพัฒนาระบบประปา
B12: (1) แผนงานอุตสาหกรรมและการโยธา
A13: ที่ | B13: โครงการ | C13: วัตถุประสงค์ | D13: เป้าหมาย(ผลผลิตของโครงการ) | E13: งบประมาณและที่มา | J13: ตัวชี้วัด(KPI) | K13: ผลลัพธ์ที่คาดว่าจะได้รับ | L13: หน่วยงานรับผิดชอบ
E14: 2566 | F14: 2567 | G14: 2568 | H14: 2569 | I14: 2570
E15: (บาท) | F15: (บาท) | G15: (บาท) | H15: (บาท) | I15: (บาท)
A16: 1 | B16: โครงการปรับปรุงผิวจราจรแอสฟัลท์ติกคอนกรีตถนนสายหนองไทร - ห้วยลึก หมู่ที่ 4 | C16: - เพื่อให้ประชาชนได้มีถนนใช้ในการคมนาคมได้สะดวกรวดเร็ว - เพื่อความปลอดภัยในการใช้รถใช้ถนนในการเดินทาง | D16: - ปรับปรุงผิวจราจรแอสฟัลท์ติกคอนกรีต ขนาดกว้าง 5 เมตร ระยะทาง 950 เมตร หนา 0.05 เมตร หรือมีพื้นที่ไม่น้อยกว่า 4,750 ตร.ม. ฯลฯ | E16: - | F16: - | G16: 3154000 | H16: - | I16: - | J16: ถนนมีมาตรฐานความปลอดภัยและประชาชนได้รับความสะดวกรวดเร็วในการเดินทาง ร้อยละ 70 ขึ้นไป | K16: - ทำให้ประชาชนมีถนนใช้ที่ได้มาตรฐานและการเดินทางสะดวกรวดเร็วปลอดภัยยิ่งขึ้น | L16: กองช่าง อุดหนุนเฉพาะกิจ
A17: 2 | B17: โครงการก่อสร้างถนนพาราแอสฟัลท์ติกคอนกรีตสายรอบสระน้ำหนองไทร พร้อมติดตั้งชุดเสาไฟถนนโคมไฟแอลอีดี พลังงานแสงอาทิตย์แบบประกอบในชุดเดียวกัน หมู่ที่ 9 | C17: - เพื่อให้ประชาชนได้มีถนนใช้ในการคมนาคมได้สะดวกรวดเร็ว - เพื่อความปลอดภัยในการใช้รถใช้ถนนในการเดินทาง | D17: - ก่อสร้างถนนพาราแอสฟัลท์ติก คอนกรีตขนาดกว้าง 5-6 เมตร ระยะทาง 850 เมตร หนา 0.05 เมตร หรือมีพื้นที่ไม่น้อยกว่า 4,950 ตารางเมตร ฯลฯ และติดตั้งชุดเสาไฟถนนโคมไฟแอลอีดี พลังงานแสงอาทิตย์แบบประกอบในชุดเดียวกัน จำนวน 28 ต้น ฯลฯ | G17: 8378000 | J17: ถนนมีมาตรฐานความปลอดภัยและประชาชนได้รับความสะดวกรวดเร็วในการเดินทาง ร้อยละ 70 ขึ้นไป และมีไฟฟ้าส่องสว่างเพิ่มมากขึ้น | K17: - ทำให้ประชาชนมีถนนใช้ที่ได้มาตรฐานและการเดินทางสะดวกรวดเร็วปลอดภัยยิ่งขึ้น | L17: กองช่าง อุดหนุนเฉพาะกิจ
A18: 3 | B18: โครงการพัฒนาแหล่งท่องเที่ยวน้ำตกลำปลอก โดยจัดซื้อติดตั้งชุดเสาไฟถนนโคมไฟแอลอีดี พลังงานแสงอาทิตย์แบบประกอบในชุดเดียวกัน หมู่ที่ 4,2 | C18: - เพื่อให้ประชาชนมีไฟฟ้าส่องสว่างอย่างทั่วถึงและมีความปลอดภัยในชีวิตและทรัพย์สินเพิ่มมากขึ้น | D18: - ติดตั้งชุดเสาไฟถนน โคมไฟแอลอีดีพลังงานแสงอาทิตย์ เสาสูง 8 เมตร จำนวน 156 ต้น ฯลฯ | E18: - | F18: - | G18: 9984000 | H18: - | I18: - | J18: ถนนในเขต อบต.ในควนมีไฟฟ้าส่องสว่างเพิ่มขึ้น ประชาชนได้รับความสะดวกและความปลอดภัยในการสัญญจร | K18: - ประชาชนได้มีไฟฟ้าส่องสว่างอย่างทั่วถึง | L18: กองช่าง อุดหนุนเฉพาะกิจ
A19: 4 | B19: โครงการพัฒนาแหล่งท่องเที่ยวน้ำตกไพรสวรรค์และน้ำตกสายรุ้ง โดยจัดซื้อติดตั้งชุดเสาไฟถนนโคมไฟแอลอีดี พลังงานแสงอาทิตย์แบบประกอบในชุดเดียวกัน หมู่ที่ 9,10,5 | C19: - เพื่อให้ประชาชนมีไฟฟ้าส่องสว่างอย่างทั่วถึงและมีความปลอดภัยในชีวิตและทรัพย์สินเพิ่มมากขึ้น | D19: - ติดตั้งชุดเสาไฟถนน โคมไฟแอลอีดีพลังงานแสงอาทิตย์ เสาสูง 8 เมตร จำนวน 156 ต้น ฯลฯ | E19: - | F19: - | G19: 9984000 | H19: - | I19: - | J19: ถนนในเขต อบต.ในควนมีไฟฟ้าส่องสว่างเพิ่มขึ้น ประชาชนได้รับความสะดวกและความปลอดภัยในการสัญญจร | K19: - ประชาชนได้มีไฟฟ้าส่องสว่างอย่างทั่วถึง | L19: กองช่าง อุดหนุนเฉพาะกิจ
B20: รวมงบประมาณ | E20: =SUM(E16:E16) -> 0 | F20: =SUM(F16:F16) -> 0 | G20: =SUM(G16:G19) -> 31500000 | H20: =SUM(H22) -> 0 | I20: =SUM(I22) -> 0
C21: รวมโครงการ | E21: =COUNT(E16:E16) -> 0 | F21: =COUNT(F16:F16) -> 0 | G21: =COUNT(G16:G19) -> 4 | H21: =COUNT(#REF!) -> 0 | I21: =COUNT(#REF!) -> 0

Sheet ผ02.2ยท5.2)
A1: รายละเอียดโครงการพัฒนา
A2: แผนพัฒนาท้องถิ่น (พ.ศ. 2566-2570) เพิ่มเติม ครั้งที่ 1/2566
A3: โครงการที่เกินศักยภาพขององค์กรปกครองส่วนท้องถิ่นที่ใช้สำหรับการประสานแผนพัฒนาท้องถิ่น
A4: องค์การบริหารส่วนตำบลในควน
B5: ก.ยุทธศาสร์ชาติ 20 ปี ยุทธศาสตร์ที่ 5 ด้านการสร้างการเติบโตบนคุณภาพชีวิตที่เป็นมิตรต่อสิ่งแวดล้อม
B6: ข.แผนพัฒนาเศรษฐกิจและสังคมแห่งชาติ ฉบับที่ 13 หมุดหมายที่ 10 ไทยมีเศรษฐกิจหมุนเวียนและสังคมคาร์บอนต่ำ จิสติกส์ที่สำคัญของภูมิภาค
B7: ค. Sustainable Development Goals : SDGs เป้าหมายที่ 9 ปกป้อง ฟื้นฟู และสนับสนุนการใช้ระบบนิเวศบนบกอย่างยั่งยืน จัดการป่าไม้อย่างยั่งยืนต่อสู้การกลายสภาพเป็นทะเลทราย หยุดการเสื่อมโทรมของที่ดินและฟื้นสภาพดิน และหยุดยั้งการสูญเสียความหลากหลายทางชีวภาพ
B8: ง. ยุทธศาสตร์จังหวัดที่ 4 การบริหารจัดการทรัพยากรธรรมชาติและสิ่งแวดล้อมอย่างเหมาะสมกับชุมชน/พื้นที่และมีความยั่งยืน
B9: จ. ยุทธศาสตร์การพัฒนา อปท.ในเขตจังหวัดตรัง ยุทธศาสตร์ ที่ 4 ยุทธศาสตร์การพัฒนาด้านการอนุรักษ์พลังงานและจัดการทรัพยากรธรรมชาติและสิ่งแวดล้อมอย่างยั่งยืน
B10: ยุทธศาสตร์ที่ 5 การพัฒนาด้านการบริหารจัดการและการอนุรักษ์ทรัพยากรธรรมชาติสิ่งแวดล้อม | K10: ผ 02/2
A11: 5.2 แผนงานอุตสาหกรรมและการโยธา | B11: กลยุทธ์ที่ 5.2 การอนุรักษ์ทรัพยากรธรรมชาติและสิ่งแวดล้อม
B12: (2) แผนงานเคหะและชุมชน
A13: ที่ | B13: โครงการ | C13: วัตถุประสงค์ | D13: เป้าหมาย(ผลผลิตของโครงการ) | E13: งบประมาณและที่มา | J13: ตัวชี้วัด(KPI) | K13: ผลลัพธ์ที่คาดว่าจะได้รับ | L13: หน่วยงานรับผิดชอบ
E14: 2566 | F14: 2567 | G14: 2568 | H14: 2569 | I14: 2570
E15: (บาท) | F15: (บาท) | G15: (บาท) | H15: (บาท) | I15: (บาท)
A16: 1 | B16: โครงการสนับสนุนและส่งเสริมเตาเผาขยะไร้ควันในชุมชน | C16: 1.เพื่อให้ชุมชนสามารถกำจัดขยะและลดปัญหามลภาวะในพื้นที่ 2.เพื่อลดค่าใช้จ่ายในการกำจัดขยะ | D16: - โรงเรียนในพื้นที่ตำบลในควน จำนวน 5 แห่ง -วัดในพื้นที่ตำบลในควน จำนวน 5 แห่ง -มัสยิดในพื้นที่ตำบลในควน จำนวน 8 แห่ง -ศูนย์พัฒนาเด็กเล็กในเขตพื้นที่ตำบลในควน จำนวน 3 แห่ง | E16: 96600 | F16: 96600 | G16: 96600 | H16: 96600 | I16: 96600 | J16: 1.ประหยัดค่าใช้จ่ายในการกำจัดขยะ ด้วยการ ใช้เตาเผาไร้ควัน 2. มีพลังงานทนแทนในการจัดการขยะในพื้นที่ | K16: 1.มีการใช้พลังงานทดแทนในพื้นที่มากขึ้น 2.ลดค่าใช้จ่ายด้านพลังงานให้กับประชาชนในพื้นที่ 3.ช่วยให้คุณภาพสิ่งแวดล้อมในชุมชนดีขึ้น | L16: สพจ.ตรัง อบต.ในควน
A17: 2 | B17: โครงการสนับสนุนและส่งเสริมการใช้เตาซุปเปอร์อั้งโล่ในชุมชน | C17: 1.เพื่อส่งเสริมให้มีการใช้พลังงานทดแทนในพื้นที่ 2.เพื่อลดต้นทุนค่าใช้จ่ายด้านพลังงาน | D17: ส่งเสริมการใช้เตาซุปเปอร์อั้งโล่ในชุมชน จำนวน 50 ครัวเรือน | E17: 15000 | F17: 15000 | G17: 15000 | H17: 15000 | I17: 15000 | J17: ลดค่าใช้จ่ายด้านพลังงานในแต่ละครัวเรือน | K17: ประชาชนใช้พลังงานทดแทนในพื้นที่ สมารถลดต้นทุนค่าใช้จ่ายด้านพลังงาน | L17: สพจ.ตรัง อบต.ในควน
A18: 3 | B18: โครงการการจัดการขยะมูลฝอยใน ครัวเรือนและชุมชน | C18: 1.เพื่อสร้างความรู้ความเข้าใจในการจัดการขยะในชุมชน 2.เพื่อจัดการขยะในชุมชนให้เป็นระบบ และเกิดสภาพแวดล้อมที่ดี 3.เพื่อลดค่าใช้จ่ายและสร้างรายได้จากการคัดแยกขยะในชุมชน | D18: จัดโครงการให้ความรู้สร้างความรู้ความเข้าใจในการจัดการขยะจากครัวเรือน | E18: 30000 | F18: 30000 | G18: 30000 | H18: 30000 | I18: 30000 | J18: 1.ประชาชนในพื้นที่มีความรู้ความเข้าใจในการจัดการขยะในชุมชน 2.ลดปัญหามลภาวะและทำให้ชุมชนมีสภาพแวดล้อมที่ดีขึ้น 3.ลดค่าใช้จ่ายด้านการจัดการคัดแยกขยะในชุมชน 4.ประชาชนมีรายได้เพิ่มขึ้นจากการคัดแยกขยะ | K18: อบต.สามารถจัดการขยะในชุมชนให้เป็นระบบ และเกิดสภาพแวดล้อมที่ดี | L18: สพจ.ตรัง อบต.ในควน
A19: 4 | B19: โครงการส่งเสริมระบบผลิตก๊าซชีวภาพจากมูลสัตว์และขยะเปียกในครัวเรือน | C19: 1. เพื่อแก้ปัญหาด้านสิ่งแวดล้อมจากการเลี้ยงสัตว์โดยการนำมูลสัตว์มาทำแก๊สชีวภาพ 2. เป็นสถานที่ศึกษากระบวนการเรียนรู้ร่วมกันด้านพลังงานชุมชน ในพื้นที่ตำบลในควน 3.เพื่อจัดการขยะในครัวเรือน ให้เป็นประโยชน์ ลดรายจ่าย และเกิดสภาพแวดล้อมที่ดี | D19: ระบบก๊าชชีวภาพ แบบถุง PVC Covered lagoonกำลังกาผลิต 10 ลูกบาศก์เมตร | E19: 15000 | F19: 15000 | G19: 15000 | H19: 15000 | I19: 15000 | J19: 1. เพื่อแก้ปัญหาขยะ และมลภาวะทางกลิ่นในพื้นที่ 2. เพื่อลดต้นทุนค่าใช้จ่ายด้านพลังงาน ของครัวเรือน | K19: 1.ลดค่าใช้จ่ายด้านพลังงาน 2.ลดปัญหาเรื่องกลิ่นเหม็น 3.ชุมชนเกิดสภาพแวดล้อมที่ดีขึ้น 4.เกิดรายได้จากปุ๋ยหมักชีวภาพ | L19: สพจ.ตรัง อบต.ในควน
A20: 5 | B20: โครงการพลังงานแสงอาทิตย์ลดต้นทุนการใช้พลังงานไฟฟ้าในระบบประปาหมู่บ้าน | C20: เพื่อลดต้นทุนค่าใช้จ่ายด้านพลังงาน ระบบประปาหมู่บ้าน ใช้ระบบพลังงานแสงอาทิตย์มาใช้กับระบบประปาหมู่บ้าน แบบผสมผสานกับการใช้พลังงานไฟฟ้า เพื่อลดค่าใช้จ่ายในระบบประปาหมู่บ้าน | D20: ติดตั้ง ระบบสูบน้ำพลังงานแสงอาทิตย์สำหรับแหล่งน้ำผิวดิน แผงโซลาเซลล์ไม่น้อยกว่า 3,060 วัตต์ มอเตอร์ประสิทธิภาพสูง 3 แรงม้า หรือ 2.2 kW เหมาะสมกับชนิดปั๊มสูบน้ำ | E20: 450000 | F20: 450000 | G20: 450000 | H20: 450000 | I20: 450000 | J20: 1.ลดค่าใช้จ่ายด้านพลังงานไฟฟ้าของระบบประปาหมู่บ้าน 2.ประชาชนมีคุณภาพชีวิตที่ดีขึ้น 3.สามารถนำพลังงานแสงอาทิตย์มาใช้ให้เกิดประโยชน์ | K20: ระบบประปาหมู่บ้านมีประสิทธิภาพ สามารถผลิตน้ำได้เพียงพอกับจำนวนผู้ใช้น้ำ และสามารถลดการใช้พลังงานไฟฟ้าในแต่ละเดือน | L20: สพจ.ตรัง อบต.ในควน
A21: 6 | B21: โครงการส่งเสริมผลิตภัณฑ์ชุมชนด้วยระบบตู้อบแห้งพลังงานแสงอาทิตย์ | C21: 1.เพื่อส่งเสริมให้มีการใช้พลังงานทดแทนกลุ่มอาชีพในชุมชน 2.เพื่อเพิ่มประสิทธิภาพในกระบวนการผลิตและเพิ่มมูลค่าผลิตภัณฑ์ ของกลุ่มอาชีพวิสาหกิจบ้านในควนและกลุ่มอาชีพทำน้ำพริก | D21: ตู้อบแห้งพลังงานแสงอาทิตย์ ขนาด 2x2 เมตร จำนวน 2 ชุด | E21: 50000 | F21: 50000 | G21: 50000 | H21: 50000 | I21: 50000 | J21: 1.เพิ่มประสิทธิภาพในกระบวนการผลิต ลดระยะเวลาการตากแห้ง 2.ผลิตภัณฑ์ที่ได้สะอาด ถูกสุขอนามัย 3.ช่วยเพิ่มมูลค่าให้กับผลิตภัณฑ์ | K21: ตู้อบแห้งพลังงานแสงอาทิตย์ ช่วยลดต้นทุนการผลิต ลดระยะเวลาการตากแห้ง และมีความสะอาดปลอดภัย | L21: สพจ.ตรัง อบต.ในควน
B22: รวมงบประมาณ | E22: =SUM(E16:E21) -> 656600 | F22: =SUM(F16:F21) -> 656600 | G22: =SUM(G16:G21) -> 656600 | H22: =SUM(H16:H21) -> 656600 | I22: =SUM(I16:I21) -> 656600
C23: รวมโครงการ | E23: =COUNT(E16:E21) -> 6 | F23: =COUNT(F16:F21) -> 6 | G23: =COUNT(G16:G21) -> 6 | H23: =COUNT(H16:H21) -> 6 | I23: =COUNT(I16:I21) -> 6

Sheet ยท2.1ศึกษา)
A1: รายละเอียดโครงการพัฒนา
A2: แผนพัฒนาท้องถิ่น (พ.ศ. 2566-2570) เพิ่มเติม ครั้งที่ 2/2566
A3: องค์การบริหารส่วนตำบลในควน
B4: ก.ยุทธศาสร์ชาติ 20 ปี ยุทธศาสตร์ที่ 3 ด้านการพัฒนาและเสริมสร้างศักยภาพทรัพยากรมนุษย์
B5: ข.แผนพัฒนาเศรษฐกิจและสังคมแห่งชาติ ฉบับที่ 13 หมุดหมายที่ 12 ไทยมีกำลังคนสมรรถนะสูง มุ่งเรียนรู้อย่างต่อเนื่อง ตอบโจทย์การพัฒนาแห่งอนาคต
B6: ค. Sustainable Development Goals : SDGs เป้าหมายที่ 3 สร้างหลักประกันว่าคนมีชีวิตที่มีสุขภาพดีและส่งเสริมความเป็นอยู่ที่ดีสำหรับทุกคนในทุกวัย
B7: ง. ยุทธศาสตร์จังหวัดที่ 3 การเสริมสร้างความมั่นคงทางสังคม พัฒนาคุณภาพชีวิตและการเรียนรู้อย่างมีคุณภาพ
B8: จ. ยุทธศาสตร์การพัฒนาของ อปท.ในเขตจังหวัดที่ 2 การพัฒนาด้านคุณภาพชีวิตและส่งเสริมการศึกษาเรียนรู้แบบองค์รวม
B9: ยุทธศาสตร์ที่ 2 การพัฒนาด้านคุณภาพชีวิต | K9: แบบ ผ 02
B10: กลยุทธ์ที่ 2.1 ส่งเสริมการศึกษาและนันทนาการ
B11: (1) แผนงานการศึกษา
A12: ที่ | B12: โครงการ | C12: วัตถุประสงค์ | D12: เป้าหมาย(ผลผลิตของโครงการ) | E12: งบประมาณและที่มา | J12: ตัวชี้วัด(KPI) | K12: ผลลัพธ์ที่คาดว่าจะได้รับ | L12: หน่วยงานรับผิดชอบ
E13: 2566 | F13: 2567 | G13: 2568 | H13: 2569 | I13: 2570
E14: (บาท) | F14: (บาท) | G14: (บาท) | H14: (บาท) | I14: (บาท)
A15: 1 | B15: โครงการปรับปรุงภูมิทัศน์ ศพด.อบต.ในควน | C15: -เพื่อปรับปรุงภูมิทัศน์ ศพด.อบต.ในควน เช่นวางท่อระบายน้ำ ปรับระดับพื้นสนาม เป็นต้น | D15: - โดยการถมดินปรับพื้นที่ ขนาดพื้นที่ไม่น้อยกว่า 630 ตร.ม. พร้อมวางคูระบายน้ำ ยาว 29 เมตร ฯลฯ | E15: - | F15: 490000 | G15: - | H15: 490000 | I15: - | J15: - พื้นที่ทีใช้ประโยชน์ในการจัดประการณ์เรียนรู้ของเด็กนักเรียนเพิ่มขึ้น | K15: - เด็กนักเรียนมีพื้นที่ทีใช้ประโยชน์เพิ่มขึ้น | L15: กองการศึกษาฯ
A16: 2 | B16: โครงการก่อสร้างระบบประปาศพด. อบต.ในควน | C16: - เพื่อก่อสร้างระบบประปาศพด. อบต.ในควน | D16: - ก่อสร้างระบบประปาพร้อมหอถังเก็บน้ำแบบลูกบอล ขนาด 12 ลบ.ม. และถังกรองสนิมเหล็ก พร้อมวางท่อเมนจ่ายน้ำ จำนวน 1 ชุด ฯลฯ | E16: - | F16: 500000 | G16: - | H16: - | I16: - | J16: - ระบบประปาสำหรับ ศพด.อบต.ในควน | K16: - ศพด.อบต.ในควนมีระบบประปาใช้งาน | L16: กองการศึกษาฯ
A17: 3 | B17: โครงการจัดกิจกรรมเรียนรู้นอกห้องเรียน | C17: - เพื่อเพิ่มทักษะและพัฒนากระบวนการเรียนรู้ให้กับเด็ก | D17: - จัดกิจกรรมเรียนรู้นอกห้องเรียน อย่างน้อย 1 ครั้ง ฯลฯ | E17: - | F17: 80000 | G17: 80000 | H17: 80000 | I17: 80000 | J17: จำนวนนักเรียนที่เข้าร่วม | K17: - นักเรียน ศพด.มีพัฒนาการสมวัย | L17: กองการศึกษาฯ
A18: 4 | B18: โครงการซ่อมแซม/ปรับปรุง/ต่อเติม อาคารอเนกประสงค์ ศพด.อบต.ในควน | C18: - เพื่อซ่อมแซม/ปรับปรุง/ต่อเติม อาคารอเนกประสงค์ ศพด.อบต.ในควนพร้อมสำหรับใช้งานประโยชน์มากขึ้น | D18: - ซ่อมแซม/ปรับปรุง/ต่อเติมอาคารอเนกประสงค์ ขนาดกว้าง 9 เมตร ยาว 21 เมตร 1. ซ่อมแซมผนังก่ออิฐ 2. ปรับปรุงห้องน้ำ 3. กั้นห้อง ขนาดกว้าง 5.25 เมตร ยาว 9 เมตร ฯลฯ | E18: - | F18: 200000 | G18: - | H18: 200000 | I18: - | J18: - พื้นที่ทีใช้ประโยชน์ในการจัดประการณ์เรียนรู้ของเด็กนักเรียนเพิ่มขึ้น | K18: - เด็กนักเรียนมีพื้นที่ทีใช้ประโยชน์เพิ่มขึ้น | L18: กองการศึกษาฯ
A19: 5 | B19: โครงการซ่อมแซ่ม/ปรับปรุง/ต่อเติม ศูนย์พัฒนาเด็กเล็กบ้านทุ่งหนองแห้ง (ศูนย์เก่า) | C19: - เพื่อให้อาคารสามารถนำกลับมาใช้ประโยชน์กับงานราชการได้ - เพื่อให้อาคารสามารถใช้ประโยชน์ให้การเก็บวัสดุครุภัณฑ์ และเครื่องทางการแพทย์ | D19: - ซ่อมแซ่ม/ปรับปรุง/ต่อเติม ศูนย์พัฒนาเด็กเล็กบ้านทุ่งหนองแห้ง (ศูนย์เก่า) ขนาดกว้าง 12 เมตร ยาว 17 เมตร ติดตั้งบานประตู หน้าต่าง อะลูมิเนียม ฝาเพดาน เปลี่ยนประตูไม้ ฯลฯ | E19: - | F19: 200000 | G19: - | H19: - | I19: - | J19: มีอาคารที่ใช้ประโยชน์กับทางราชการได้ | K19: -อาคารสามารถนำกลับมาใช้ประโยชน์กับงานราชการได้ -อาคารสามารถใช้ประโยชน์ให้การเก็บวัสดุครุภัณฑ์ และเครื่องทางการแพทย์ | L19: กองการศึกษาฯ
B20: รวมงบประมาณ | E20: =SUM(E15:E19) -> 0 | F20: =SUM(F15:F19) -> 1470000 | G20: =SUM(G15:G19) -> 80000 | H20: =SUM(H15:H19) -> 770000 | I20: =SUM(I15:I19) -> 80000
C21: รวมโครงการ | E21: =COUNT(E15:E19) -> 0 | F21: =COUNT(F15:F19) -> 5 | G21: =COUNT(G15:G19) -> 1 | H21: =COUNT(H15:H19) -> 3 | I21: =COUNT(I15:I19) -> 1

Sheet ยท2.6เพิ่ม 2.66
A1: รายละเอียดโครงการพัฒนา
A2: แผนพัฒนาท้องถิ่น (พ.ศ. 2566-2570) เพิ่มเติม ครั้งที่ 2/2566
A3: องค์การบริหารส่วนตำบลในควน
B4: ก.ยุทธศาสร์ชาติ 20 ปี ยุทธศาสตร์ที่ 3 ด้านการพัฒนาและเสริมสร้างศักยภาพทรัพยากรมนุษย์
B5: ข.แผนพัฒนาเศรษฐกิจและสังคมแห่งชาติ ฉบับที่ 13 หมุดหมายที่ 12 ไทยมีกำลังคนสมรรถนะสูง มุ่งเรียนรู้อย่างต่อเนื่อง ตอบโจทย์การพัฒนาแห่งอนาคต
B6: ค. Sustainable Development Goals : SDGs เป้าหมายที่ 3 สร้างหลักประกันว่าคนมีชีวิตที่มีสุขภาพดีและส่งเสริมความเป็นอยู่ที่ดีสำหรับทุกคนในทุกวัย
B7: ง. ยุทธศาสตร์จังหวัดที่ 3 การเสริมสร้างความมั่นคงทางสังคม พัฒนาคุณภาพชีวิตและการเรียนรู้อย่างมีคุณภาพ
B8: จ. ยุทธศาสตร์การพัฒนาของ อปท.ในเขตจังหวัดที่ 2 การพัฒนาด้านคุณภาพชีวิตและส่งเสริมการศึกษาเรียนรู้แบบองค์รวม
B9: ยุทธศาสตร์ที่ 2 การพัฒนาด้านคุณภาพชีวิต | K9: แบบ ผ 02
B10: กลยุทธ์ที่ 2.1 ส่งเสริมการศึกษาและนันทนาการ
B11: (2) แผนงานการศาสนา วัฒนธรรมและนันทนาการ
A12: ที่ | B12: โครงการ | C12: วัตถุประสงค์ | D12: เป้าหมาย(ผลผลิตของโครงการ) | E12: งบประมาณและที่มา | J12: ตัวชี้วัด(KPI) | K12: ผลลัพธ์ที่คาดว่าจะได้รับ | L12: หน่วยงานรับผิดชอบ
E13: 2566 | F13: 2567 | G13: 2568 | H13: 2569 | I13: 2570
E14: (บาท) | F14: (บาท) | G14: (บาท) | H14: (บาท) | I14: (บาท)
A15: 1 | B15: โครงการจัดการแข่งขันกีฬาต้านภัยยาเสพติดตำบลในควน | C15: - เพื่อจัดกิจกรรมกีฬาต้านภัยยาเสพติดและส่งเสริมการออกกำลังกาย | D15: - จัดกิจกรรมแข่งขันกีฬาต้านภัยยาเสพติดตำบลในควน อย่างน้อย 1 ครั้ง ฯลฯ | E15: - | F15: 150000 | G15: 150000 | H15: 150000 | I15: 150000 | J15: จำนวน เด็ก เยาวชน และประชาชน ที่เข้าร่วมโครงการ | K15: - เด็ก เยาวชน และประชาชน ห่างไกลยาเสพติดและออกกำลังกายมากขึ้น | L15: กองการศึกษาฯ
B16: รวมงบประมาณ | E16: =SUM(E15:E15) -> 0 | F16: =SUM(F15:F15) -> 150000 | G16: =SUM(G15:G15) -> 150000 | H16: =SUM(H15:H15) -> 150000 | I16: =SUM(I15:I15) -> 150000
C17: รวมโครงการ | E17: =COUNT(E15:E15) -> 0 | F17: =COUNT(F15:F15) -> 1 | G17: =COUNT(G15:G15) -> 1 | H17: =COUNT(H15:H15) -> 1 | I17: =COUNT(I15:I15) -> 1

Sheet ยท2.2สารสุข เพิ่มเติม 2.66
A1: รายละเอียดโครงการพัฒนา
A2: แผนพัฒนาท้องถิ่น (พ.ศ. 2566-2570) เพิ่มเติม ครั้งที่ 2/2566
A3: องค์การบริหารส่วนตำบลในควน
B4: ก.ยุทธศาสร์ชาติ 20 ปี ยุทธศาสตร์ที่ 3 ด้านการพัฒนาและเสริมสร้างศักยภาพทรัพยากรมนุษย์
B5: ข.แผนพัฒนาเศรษฐกิจและสังคมแห่งชาติ ฉบับที่ 13 หมุดหมายที่ 12 ไทยมีกำลังคนสมรรถนะสูง มุ่งเรียนรู้อย่างต่อเนื่อง ตอบโจทย์การพัฒนาแห่งอนาคต
B6: ค. Sustainable Development Goals : SDGs เป้าหมายที่ 3 สร้างหลักประกันว่าคนมีชีวิตที่มีสุขภาพดีและส่งเสริมความเป็นอยู่ที่ดีสำหรับทุกคนในทุกวัย
B7: ง. ยุทธศาสตร์จังหวัดที่ 3 การเสริมสร้างความมั่นคงทางสังคม พัฒนาคุณภาพชีวิตและการเรียนรู้อย่างมีคุณภาพ
B8: จ. ยุทธศาสตร์การพัฒนาของ อปท.ในเขตจังหวัดที่ 2 การพัฒนาด้านคุณภาพชีวิตและส่งเสริมการศึกษาเรียนรู้แบบองค์รวม
B9: ยุทธศาสตร์ที่ 2 การพัฒนาด้านคุณภาพชีวิต | K9: แบบ ผ02
B10: กลยุทธ์ที่ 2.2 การส่งเสริมสาธารณสุขและสวัสดิการสังคม
B11: (3) แผนงานสาธารณสุข
A12: ที่ | B12: โครงการ | C12: วัตถุประสงค์ | D12: เป้าหมาย(ผลผลิตของโครงการ) | E12: งบประมาณและที่มา | J12: ตัวชี้วัด(KPI) | K12: ผลลัพธ์ที่คาดว่าจะได้รับ | L12: หน่วยงานรับผิดชอบ
E13: 2566 | F13: 2567 | G13: 2568 | H13: 2569 | I13: 2570
E14: (บาท) | F14: (บาท) | G14: (บาท) | H14: (บาท) | I14: (บาท)
A15: 1 | B15: โครงการจัดสร้างสวนสุขภาพ อบต.ในควน บริเวณศูนย์พัฒนาเด็กเล็กบ้านทุ่งหนองแห้ง (ศูนย์เก่า) | C15: - เพื่อให้เป็นสถานที่พักผ่อนหย่อนใจ และเป็นสถานที่ออกกำลังกายส่งเสริมสุขภาพพลานามัยของประชาชนอีกแห่งหนึ่ง - เพื่อช่วยแก้ไขปัญหายาเสพติดโดยส่งเสริมให้เยาวชนและประชาชนได้ออกกำลังกายและเล่นกีฬาในเวลาว่าง | D15: - โดยการจัดสร้างสวนสุขภาพ ประกอบชุดอุปกรณ์เครื่องออกกำลังกาย ฯลฯ | E15: - | F15: - | G15: 500000 | H15: - | I15: - | J15: มีสวนสุขภาพบริเวณศูนย์พัฒนาเด็กเล็กบ้านทุ่งหนองแห้ง (ศูนย์เก่า) | K15: - มีสถานที่พักผ่อนหย่อนใจ และเป็นสถานที่ออกกำลังกายส่งเสริมสุขภาพพลานามัยของประชาชนอีกแห่งหนึ่ง - แก้ไขปัญหายาเสพติดโดยส่งเสริมให้เยาวชนและประชาชนได้ออกกำลังกายและเล่นกีฬาในเวลาว่าง | L15: สำนักปลัด
B16: รวมงบประมาณ | E16: =SUM(E15:E15) -> 0 | F16: =SUM(F15:F15) -> 0 | G16: =SUM(G15:G15) -> 500000 | H16: =SUM(H15:H15) -> 0 | I16: =SUM(I15:I15) -> 0
C17: รวมโครงการ | E17: =COUNT(E14:E15) -> 0 | F17: =COUNT(F14:F15) -> 0 | G17: =COUNT(G14:G15) -> 1 | H17: =COUNT(H14:H15) -> 0 | I17: =COUNT(I14:I15) -> 0

Sheet ยท2.5 สคขข. เพิ่มเติม 2.66
A1: รายละเอียดโครงการพัฒนา
A2: แผนพัฒนาท้องถิ่น (พ.ศ. 2566-2570) เพิ่มเติม ครั้งที่ 2/2566
A3: องค์การบริหารส่วนตำบลในควน
B4: ก.ยุทธศาสร์ชาติ 20 ปี ยุทธศาสตร์ที่ 3 ด้านการพัฒนาและเสริมสร้างศักยภาพทรัพยากรมนุษย์
B5: ข.แผนพัฒนาเศรษฐกิจและสังคมแห่งชาติ ฉบับที่ 13 หมุดหมายที่ 12 ไทยมีกำลังคนสมรรถนะสูง มุ่งเรียนรู้อย่างต่อเนื่อง ตอบโจทย์การพัฒนาแห่งอนาคต จิสติกส์ที่สำคัญของภูมิภาค
B6: ค. Sustainable Development Goals : SDGs เป้าหมายที่ 3 สร้างหลักประกันว่าคนมีชีวิตที่มีสุขภาพดีและส่งเสริมความเป็นอยู่ที่ดีสำหรับทุกคนในทุกวัย
B7: ง. ยุทธศาสตร์จังหวัดตรัง ยุทธศาสตร์ที่ 3 การเสริมสร้างความมั่นคงทางสังคม พัฒนาคุณภาพชีวิตและการเรียนรู้อย่างมีคุณภาพ
B8: จ. ยุทธศาสตร์การพัฒนาของ อปท. ในเขตจังหวัดตรัง ยุทธศาสตร์ที่ 2 การพัฒนาด้านคุณภาพชีวิตและส่งเสริมการศึกษาเรียนรู้แบบองค์รวม
B9: ยุทธศาสตร์ที่ 2 การพัฒนาด้านคุณภาพชีวิต | K9: แบบ ผ02
B10: กลยุทธ์ 2.2 ส่งเสริมการสาธารณสุข สวัสดิการสังคม
B11: (4) แผนงานสร้างความเข็มแข็งของชุมชน
A12: ที่ | B12: โครงการ | C12: วัตถุประสงค์ | D12: เป้าหมาย(ผลผลิตของโครงการ) | E12: งบประมาณและที่มา | J12: ตัวชี้วัด(KPI) | K12: ผลลัพธ์ที่คาดว่าจะได้รับ | L12: หน่วยงานรับผิดชอบหลัก
E13: 2566 | F13: 2567 | G13: 2568 | H13: 2569 | I13: 2570
E14: (บาท) | F14: (บาท) | G14: (บาท) | H14: (บาท) | I14: (บาท)
A15: 1 | B15: โครงการเสริมสร้างความสัมพันธ์ ในครอบครัว | C15: - เพื่อเพิ่มเติมความรู้ความเข้าใจในบทบาทหน้าที่ของสมาชิกในครอบครัว (บทบาทของ สามีภรรยา,บทบาทของพ่อแม่, บทบาทของลูก ฯลฯ) และปลูกฝังวิถีการดำเนินชีวิตที่ดี | D15: - ประชาชนตำบลในควน จำนวน 50 ครอบครัว (ครอบครัวละ 2-3 คน เช่น พ่อ-แม่-ลูก,พ่อ-ลูก, แม่-ลูก, ปู่-ย่า-ตา-ยาย-หลาน-เหลน ฯลฯ | E15: - | F15: 70000 | G15: 70000 | H15: 70000 | I15: 70000 | J15: เกิดความรักความเข้าใจความสัมพันธ์ที่ดีในครอบครัว | K15: - เกิดความรู้ความเข้าใจในบทบาทหน้าที่ของสมาชิกในครอบครัว และตระหนักถึงความสำคัญของสถาบันครอบครัว | L15: สำนักปลัด
B16: รวมงบประมาณ | E16: =SUM(E15:E15) -> 0 | F16: =SUM(F15:F15) -> 70000 | G16: =SUM(G15:G15) -> 70000 | H16: =SUM(H15:H15) -> 70000 | I16: =SUM(I15:I15) -> 70000
C17: รวมโครงการ | E17: =COUNT(E15:E15) -> 0 | F17: =COUNT(F15:F15) -> 1 | G17: =COUNT(G15:G15) -> 1 | H17: =COUNT(H15:H15) -> 1 | I17: =COUNT(I15:I15) -> 1

Sheet ยท2.7 เกษตรเพิ่ม 1.66
A1: รายละเอียดโครงการพัฒนา
A2: แผนพัฒนาท้องถิ่น (พ.ศ. 2566-2570) เพิ่มเติม ครั้งที่ 1/2566
A3: องค์การบริหารส่วนตำบลในควน
B4: ก.ยุทธศาสร์ชาติ 20 ปี ยุทธศาสตร์ที่ 3 ด้านการพัฒนาและเสริมสร้างศักยภาพทรัพยากรมนุษย์
B5: ข.แผนพัฒนาเศรษฐกิจและสังคมแห่งชาติ ฉบับที่ 13 หมุดหมายที่ 12 ไทยมีกำลังคนสมรรถนะสูง มุ่งเรียนรู้อย่างต่อเนื่อง ตอบโจทย์การพัฒนาแห่งอนาคต จิสติกส์ที่สำคัญของภูมิภาค
B6: ค. Sustainable Development Goals : SDGs เป้าหมายที่ 3 สร้างหลักประกันว่าคนมีชีวิตที่มีสุขภาพดีและส่งเสริมความเป็นอยู่ที่ดีสำหรับทุกคนในทุกวัย
B7: ง. ยุทธศาสตร์จังหวัดตรัง ยุทธศาสตร์ที่ 3 การเสริมสร้างความมั่นคงทางสังคม พัฒนาคุณภาพชีวิตและการเรียนรู้อย่างมีคุณภาพ
B8: จ. ยุทธศาสตร์การพัฒนาของ อปท. ในเขตจังหวัดตรัง ยุทธศาสตร์ที่ 2 การพัฒนาด้านคุณภาพชีวิตและส่งเสริมการศึกษาเรียนรู้แบบองค์รวม
B9: ยุทธศาสตร์ที่ 2 การพัฒนาด้านคุณภาพชีวิต | K9: แบบ ผ02
B10: กลยุทธ์ 2.3 ส่งเสริมคุณภาพชีวิตและการแก้ไขปัญหาสังคม
B11: (7) แผนงานเกษตร
A12: ที่ | B12: โครงการ | C12: วัตถุประสงค์ | D12: เป้าหมาย(ผลผลิตของโครงการ) | E12: งบประมาณและที่มา | J12: ตัวชี้วัด(KPI) | K12: ผลลัพธ์ที่คาดว่าจะได้รับ | L12: หน่วยงานรับผิดชอบหลัก
E13: 2566 | F13: 2567 | G13: 2568 | H13: 2569 | I13: 2570
E14: (บาท) | F14: (บาท) | G14: (บาท) | H14: (บาท) | I14: (บาท)
A15: 1 | B15: โครงการน้อมนำแนวพระราชดำริของสมเด็จพระกนิษฐาธิราชเจ้า กรมสมเด็จพระเทพรัตนราชสุดาฯสยามบรมราชกุมารีสู่ปฎิบัติการปลูกผักสวนครัว เพื่อความมั่นคงทางอาหาร | C15: - เพื่อสร้างพลังความต่อเนื่องในการสร้างความมั่นคงทางอาหารอย่างยั่งยืน - เพื่อลดรายจ่าย สร้างรายได้ระยะสั้น ทั้งในระดับครัวเรือนและระดับกลุ่มอาชีพ | D15: - แกนนำแต่ละหมู่บ้าน - ทุกครัวเรือนในพื้นที่ตำบลในควน | E15: - | F15: 30000 | G15: 30000 | H15: 30000 | I15: 30000 | J15: จำนวนผู้เข้าร่วมโครงการ | K15: - สร้างพลังความต่อเนื่องในการสร้างความมั่นคงทางอาหารอย่างยั่งยืน - ลดรายจ่าย สร้างรายได้ระยะสั้น ทั้งในระดับครัวเรือนและระดับกลุ่มอาชีพ | L15: สำนักปลัด
A16: 2 | B16: โครงการส่งเสริมอาชีพกลุ่มปลูกผัก หมู่ที่ 6 | C16: - เพื่อส่งเสริมให้ประชาชนหันมาปลูกผักกินเอง และสร้างอาชีพเสริมเป็นรายได้ให้กับครอบครัว | D16: - กลุ่มปลูกผัก ม.6 จำนวน 20 ครัวเรือน | E16: - | F16: 20000 | G16: 20000 | H16: 20000 | I16: 20000 | J16: จำนวนผู้เข้าร่วมโครงการ | K16: - ประชาชนหันมาปลูกผักกินเอง และสร้างอาชีพเสริมเป็นรายได้ให้กับครอบครัว | L16: สำนักปลัด
A17: 3 | B17: โครงการส่งเสริมปลูกต้นไม้สองข้างทางและที่สาธารณะประโยชน์ | C17: - เพื่อปลูกจิตสำนึกในการอนุรักษ์สิ่งแวดล้อมและทรัพยากรธรรมชาติของชุมชน | D17: - สองข้างทางและที่สาธารณประโยชน์ | E17: - | F17: 20000 | G17: 20000 | H17: 20000 | I17: 20000 | J17: จำนวนผู้เข้าร่วมโครงการ | K17: - ประชาชนมีจิตสำนึกในการอนุรักษ์สิ่งแวดล้อมและทรัพยากรธรรมชาติ | L17: สำนักปลัด
B18: รวมงบประมาณ | E18: =SUM(E15:E17) -> 0 | F18: =SUM(F15:F17) -> 70000 | G18: =SUM(G15:G17) -> 70000 | H18: =SUM(H15:H17) -> 70000 | I18: =SUM(I15:I17) -> 70000
C19: รวมโครงการ | E19: =COUNT(#REF!) -> 0 | F19: =COUNT(F15:F17) -> 3 | G19: =COUNT(G15:G17) -> 3 | H19: =COUNT(H15:H17) -> 3 | I19: =COUNT(I15:I17) -> 3

Sheet ยุทธ 7
A1: รายละเอียดโครงการพัฒนา
A2: แผนพัฒนาท้องถิ่น (พ.ศ. 2566-2570) แก้ไข ครั้งที่ 1/2566
A3: องค์การบริหารส่วนตำบลในควน
B4: ก.ยุทธศาสร์ชาติ 20 ปี ยุทธศาสตร์ที่ 6 ด้านการปรับสมดุลและพัฒนาระบบการบริหารจัดการภาครัฐ
B5: ข.แผนพัฒนาเศรษฐกิจและสังคมแห่งชาติ ฉบับที่ 13 หมุดหมายที่ 13 ไทยมีภาครัฐที่ทันสมัยมีประสิทธิภาพและตอบโจทย์ประชาชน จิสติกส์ที่สำคัญของภูมิภาค
B6: ค.Sustainable Development Goals : SDGs เป้าหมายที่ 16 ส่งเสริมสังคมที่สงบสุขและครอบคลุมเพื่อการพัฒนาที่ยั่งยืน ให้ทุกคนเข้าถึงความยุติธรรม และสร้างสถาบันที่มีประสิทธิภาพ รับผิดชอบ และครอบคลุมในทุกระดับ
B7: จ. ยุทธศาสตร์จังหวัดที่ 3 เสริมสร้างความมั่นคงทางสังคม พัฒนาคุณภาพชีวิตและการศึกษาเรียนรู้อย่าง มีคุณภาพ
B8: ง. ยุทธศาสตร์การพัฒนาของ อปท.ในเขตจังหวัดที่ 7 การพัฒนาด้านการเมือง การบริหารและการพัฒนาบุคลากรของท้องถิ่น
B9: ยุทธศาสตร์ที่ 7 การพัฒนาด้านการบริหารจัดการ
B10: กลยุทธ์ที่ 7.1 การวางแผนการพัฒนาองค์กรและการบริหารจัดการที่ดี
B11: (2) แผนงานอุตสาหกรรมและการโยธา
A12: ที่ | B12: โครงการ | C12: วัตถุประสงค์ | D12: เป้าหมาย(ผลผลิตของโครงการ) | E12: งบประมาณและที่มา | J12: ตัวชี้วัด(KPI) | K12: ผลลัพธ์ที่คาดว่าจะได้รับ | L12: หน่วยงานรับผิดชอบหลัก
E13: 2566 | F13: 2567 | G13: 2568 | H13: 2569 | I13: 2570
E14: (บาท) | F14: (บาท) | G14: (บาท) | H14: (บาท) | I14: (บาท)
A15: 1 | B15: โครงการก่อสร้างอาคารที่จอดรถ | C15: เพื่อให้มีสถานที่จอดรถที่เพียงพอและเป็นระเบียบ | D15: ขนาดกว้าง 7.00 เมตร ยาว 12.00 เมตร ฯลฯ | E15: - | F15: 350000 | G15: - | H15: - | I15: - | J15: มีสถานที่จอดรถเพิ่มขึ้น | K15: - มีสถานที่จอดรถที่เพียงพอและเป็นระเบียบเรียบร้อย | L15: สำนักปลัด
A16: 2 | B16: โครงการปรับภูมิทัศน์สระน้ำหนองยนต์ที่ทำการองค์การบริหารส่วนตำบลในควน | C16: - เพื่อปรับภูมิทัศน์สระน้ำหนองยนต์ที่ทำการองค์การบริหารส่วนตำบลในควน | D16: - โดยทำการวางท่อระบายน้ำขนาด Ø 1 เมตร จำนวน 420 เมตร พร้อมบ่อพักน้ำ และถมดินปรับพื้นที่ ขนาดกว้าง 3 - 4 เมตร ฯลฯ | E16: - | F16: 495000 | G16: - | H16: - | I16: - | J16: สภาพภูมิทัศน์บริเวณสระน้ำหนองยนต์ที่ทำการองค์การบริหารส่วนตำบลในควนที่ขึ้น | K16: สภาพภูมิทัศน์ที่ทำการ อบต.ในควน มีความสะอาด สวยงาม และน่ามอง | L16: สำนักปลัด
A17: 3 | B17: โครงการก่อสร้างประตูรั้วฝั่งซ้ายที่ทำการองค์การบริหารส่วนตำบลในควน | C17: - เพื่อความปลอดภัยในที่ราชการ | D17: - ก่อสร้างประตูรั้วฝั้งซ้าย ขนาดกว้าง 6 เมตร สูง 1.2 -1.5 เมตร ฯลฯ | E17: - | F17: 120000 | G17: - | H17: - | I17: - | J17: ที่ทำการองค์การบริหารส่วนตำบลในควนมีความปลอดภัย | K17: - มีความเป็นระเบียบเรียบร้อยในการมาติดต่อราชการ | L17: สำนักปลัด
A18: 4 | B18: โครงการอบรมคุณธรรม จริยธรรม บุคลากรในสังกัดองค์การบริหารส่วนตำบลในควน | C18: - เพื่อเสริมสร้างความรู้ ความเข้าใจในหลักคุณธรรม จริยธรรม ให้กับ คณะผู้บริหาร สมาชิกสภาฯ พนักงานส่วนตำบล พนักงานครู ลูกจ้างประจำ และพนักงานจ้าง องค์การบริหารส่วนตำบลในควน | D18: - คณะผู้บริหาร สมาชิกสภาฯ พนักงานส่วนตำบล พนักงานครู ลูกจ้างประจำ และพนักงานจ้าง องค์การบริหารส่วนตำบลในควน | E18: - | F18: 50000 | G18: 50000 | H18: 50000 | I18: 50000 | J18: บุคลากรมีความรู้ ความเข้าใจ ในบริบทคุณธรรม จริยธรรม | K18: - เพิ่มความรู้ ความเข้าใจในหลักคุณธรรม จริยธรรม ให้กับ คณะผู้บริหาร สมาชิกสภาฯ พนักงานส่วนตำบล พนักงานครู ลูกจ้างประจำ | L18: สำนักปลัด
B19: รวมงบประมาณ | E19: =SUM(E15:E15) -> 0 | F19: =SUM(F15:F18) -> 1015000 | G19: =SUM(G15:G15) -> 0 | H19: =SUM(H15:H15) -> 0 | I19: =SUM(I15:I15) -> 0
C20: รวมโครงการ | E20: =COUNT(#REF!) -> 0 | F20: =COUNT(F15:F18) -> 4 | G20: =COUNT(#REF!) -> 0 | H20: =COUNT(#REF!) -> 0 | I20: =COUNT(#REF!) -> 0

Sheet ครุภัณฑ์
A2: บัญชีครุภัณฑ์
A3: แผนพัฒนาท้องถิ่น (พ.ศ. 2566-2570) เพิ่มเติม ครั้งที่ 3/2566
A4: องค์การบริหารส่วนตำบลในควน อำเภอย่านตาขาว จังหวัดตรัง
A6: ที่ | B6: แผนงาน | C6: หมวด | D6: ประเภท | E6: เป้าหมาย | F6: งบประมาณ | K6: หน่วยงานรับผิดชอบ
E7: (ผลผลิตของครุภัณฑ์ ) | F7: 2566 | G7: 2567 | H7: 2568 | I7: 2569 | J7: 2570
F8: (บาท) | G8: (บาท) | H8: (บาท) | I8: (บาท) | J8: (บาท)
A9: 1 | B9: แผนงานเคหะและชุมชน | C9: ครุภัณฑ์ | D9: ครุภัณฑ์ยานพาหนะและขนส่ง | E9: - ค่าจัดซื้อรถบรรทุกขยะ ขนาด 6 ตัน 6 ล้อ แบบอัดท้าย จำนวน 1 คัน | F9: - | G9: - | H9: 2400000 | I9: - | J9: - | K9: สำนักปลัด
A10: 2 | B10: แผนงานอุตสาหกรรมและการโยธา | C10: ครุภัณฑ์ | D10: ครุภัณฑ์เกษตร | E10: - จัดซื้อเลื่อยยนต์ตัดแต่งกิ่งไม้สูงไร้สาย จำนวน 1 เครื่อง | F10: - | G10: 13000 | H10: - | I10: - | J10: - | K10: กองช่าง
A11: 2 | B11: แผนงานบริหารงานทั่วไป | C11: ครุภัณฑ์ | D11: ครุภัณฑ์สำนักงาน | E11: - ค่าจัดซื้อรถเข็น จำนวน 1 คัน | F11: - | G11: 0 | H11: - | I11: - | J11: - | K11: สำนักปลัด
A12: 3 | B12: แผนงานการศึกษา | C12: ครุภัณฑ์ | D12: ครุภัณฑ์สำนักงาน | E12: จัดซื้อโต๊ะทำงานพร้อมเก้าอี้จำนวน 1 ชุด | F12: - | G12: 0 | H12: - | I12: - | J12: - | K12: กองการศึกษาฯ
B14: แผนงานอุตสาหกรรมและการโยธา | C14: รวมงบประมาณ | F14: =SUM(#REF!) -> #REF! | G14: =SUM(G10:G13) -> 13000 | H14: - | I14: - | J14: -
B15: แผนงานอุตสาหกรรมและการโยธา | D15: รวมโครงการ | F15: =COUNT(#REF!) -> 0 | G15: =COUNT(G10:G13) -> 3 | H15: - | I15: - | J15: -

Sheet Sheet1
